BEGIN:VCALENDAR
VERSION:2.0
PRODID:-//North Georgia Photography Club - ECPv6.15.20//NONSGML v1.0//EN
CALSCALE:GREGORIAN
METHOD:PUBLISH
X-WR-CALNAME:North Georgia Photography Club
X-ORIGINAL-URL:http://www.northgeorgiaphotographyclub.com
X-WR-CALDESC:Events for North Georgia Photography Club
REFRESH-INTERVAL;VALUE=DURATION:PT1H
X-Robots-Tag:noindex
X-PUBLISHED-TTL:PT1H
BEGIN:VTIMEZONE
TZID:America/New_York
BEGIN:DAYLIGHT
TZOFFSETFROM:-0500
TZOFFSETTO:-0400
TZNAME:EDT
DTSTART:20250309T070000
END:DAYLIGHT
BEGIN:STANDARD
TZOFFSETFROM:-0400
TZOFFSETTO:-0500
TZNAME:EST
DTSTART:20251102T060000
END:STANDARD
BEGIN:DAYLIGHT
TZOFFSETFROM:-0500
TZOFFSETTO:-0400
TZNAME:EDT
DTSTART:20260308T070000
END:DAYLIGHT
BEGIN:STANDARD
TZOFFSETFROM:-0400
TZOFFSETTO:-0500
TZNAME:EST
DTSTART:20261101T060000
END:STANDARD
BEGIN:DAYLIGHT
TZOFFSETFROM:-0500
TZOFFSETTO:-0400
TZNAME:EDT
DTSTART:20270314T070000
END:DAYLIGHT
BEGIN:STANDARD
TZOFFSETFROM:-0400
TZOFFSETTO:-0500
TZNAME:EST
DTSTART:20271107T060000
END:STANDARD
END:VTIMEZONE
BEGIN:VEVENT
DTSTART;TZID=America/New_York:20260917T190000
DTEND;TZID=America/New_York:20260917T210000
DTSTAMP:20260423T170236
CREATED:20260203T164238Z
LAST-MODIFIED:20260203T164238Z
UID:3056-1789671600-1789678800@www.northgeorgiaphotographyclub.com
SUMMARY:Meeting: Photo Challenge (Abstracts & Patterns)
DESCRIPTION:Monthly meeting featuring a club photo challenge; this month’s topic – Abstracts & Patterns.  Open to all NGPC members\, however you must be a paid member to participate in the challenge.  See Events tab in the North Georgia Photography Club Online Facebook page for more details.
URL:http://www.northgeorgiaphotographyclub.com/event/2026-september-meeting-photo-challenge
END:VEVENT
BEGIN:VEVENT
DTSTART;VALUE=DATE:20260919
DTEND;VALUE=DATE:20260920
DTSTAMP:20260423T170236
CREATED:20260203T161442Z
LAST-MODIFIED:20260203T161600Z
UID:3031-1789776000-1789862399@www.northgeorgiaphotographyclub.com
SUMMARY:Field Trip: Atlanta Beltline
DESCRIPTION:Field trip for paid members of NGPC.  Return to the Atlanta Beltline\, launching (and lunching!) from Park Tavern at the southern end of Piedmont Park. Cool urban scenes\, skate park\, and more.  See registration for more details.
URL:http://www.northgeorgiaphotographyclub.com/event/2026-field-trip-atlanta-beltline
END:VEVENT
END:VCALENDAR